BEGIN:VCALENDAR
VERSION:2.0
PRODID:-//Hill Country MHDD Centers - ECPv6.15.20//NONSGML v1.0//EN
CALSCALE:GREGORIAN
METHOD:PUBLISH
X-WR-CALNAME:Hill Country MHDD Centers
X-ORIGINAL-URL:https://hillcountry.org
X-WR-CALDESC:Events for Hill Country MHDD Centers
REFRESH-INTERVAL;VALUE=DURATION:PT1H
X-Robots-Tag:noindex
X-PUBLISHED-TTL:PT1H
BEGIN:VTIMEZONE
TZID:America/Chicago
BEGIN:DAYLIGHT
TZOFFSETFROM:-0600
TZOFFSETTO:-0500
TZNAME:CDT
DTSTART:20220313T080000
END:DAYLIGHT
BEGIN:STANDARD
TZOFFSETFROM:-0500
TZOFFSETTO:-0600
TZNAME:CST
DTSTART:20221106T070000
END:STANDARD
BEGIN:DAYLIGHT
TZOFFSETFROM:-0600
TZOFFSETTO:-0500
TZNAME:CDT
DTSTART:20230312T080000
END:DAYLIGHT
BEGIN:STANDARD
TZOFFSETFROM:-0500
TZOFFSETTO:-0600
TZNAME:CST
DTSTART:20231105T070000
END:STANDARD
BEGIN:DAYLIGHT
TZOFFSETFROM:-0600
TZOFFSETTO:-0500
TZNAME:CDT
DTSTART:20240310T080000
END:DAYLIGHT
BEGIN:STANDARD
TZOFFSETFROM:-0500
TZOFFSETTO:-0600
TZNAME:CST
DTSTART:20241103T070000
END:STANDARD
BEGIN:DAYLIGHT
TZOFFSETFROM:-0600
TZOFFSETTO:-0500
TZNAME:CDT
DTSTART:20250309T080000
END:DAYLIGHT
BEGIN:STANDARD
TZOFFSETFROM:-0500
TZOFFSETTO:-0600
TZNAME:CST
DTSTART:20251102T070000
END:STANDARD
BEGIN:DAYLIGHT
TZOFFSETFROM:-0600
TZOFFSETTO:-0500
TZNAME:CDT
DTSTART:20260308T080000
END:DAYLIGHT
BEGIN:STANDARD
TZOFFSETFROM:-0500
TZOFFSETTO:-0600
TZNAME:CST
DTSTART:20261101T070000
END:STANDARD
END:VTIMEZONE
BEGIN:VTIMEZONE
TZID:UTC
BEGIN:STANDARD
TZOFFSETFROM:+0000
TZOFFSETTO:+0000
TZNAME:UTC
DTSTART:20200101T000000
END:STANDARD
END:VTIMEZONE
BEGIN:VEVENT
DTSTART;TZID=America/Chicago:20250526T080000
DTEND;TZID=America/Chicago:20250526T200000
DTSTAMP:20260422T094724
CREATED:20230324T135245Z
LAST-MODIFIED:20250414T141207Z
UID:996-1748246400-1748289600@hillcountry.org
SUMMARY:Memorial Day
DESCRIPTION:Please be aware that Hill Country MHDD Center locations will be closed to observe the holiday. All locations will resume normal business hours the following day.
URL:https://hillcountry.org/event/memorial-day-4/
END:VEVENT
BEGIN:VEVENT
DTSTART;TZID=America/Chicago:20250418T080000
DTEND;TZID=America/Chicago:20250418T200000
DTSTAMP:20260422T094724
CREATED:20230315T183011Z
LAST-MODIFIED:20250414T141135Z
UID:987-1744963200-1745006400@hillcountry.org
SUMMARY:Good Friday
DESCRIPTION:Please be aware that Hill Country MHDD Center locations will be closed to observe the holiday. All locations will resume normal business hours the following day.
URL:https://hillcountry.org/event/good-friday/
END:VEVENT
BEGIN:VEVENT
DTSTART;VALUE=DATE:20250120
DTEND;VALUE=DATE:20250121
DTSTAMP:20260422T094724
CREATED:20240112T191016Z
LAST-MODIFIED:20241220T172038Z
UID:1133-1737331200-1737417599@hillcountry.org
SUMMARY:Martin Luther King Jr. Day
DESCRIPTION:Please be aware that Hill Country MHDD Center locations will be closed to observe the holiday. All locations will resume normal business hours the following day.
URL:https://hillcountry.org/event/martin-luther-king-jr-day-2/
END:VEVENT
BEGIN:VEVENT
DTSTART;VALUE=DATE:20250101
DTEND;VALUE=DATE:20250102
DTSTAMP:20260422T094724
CREATED:20241114T175121Z
LAST-MODIFIED:20241114T175121Z
UID:1334-1735689600-1735775999@hillcountry.org
SUMMARY:New Year’s Day
DESCRIPTION:Please be aware that Hill Country MHDD Center locations will be closed to observe the holiday. All locations will resume normal business hours the following day.
URL:https://hillcountry.org/event/new-years-day/
END:VEVENT
BEGIN:VEVENT
DTSTART;VALUE=DATE:20241226
DTEND;VALUE=DATE:20241227
DTSTAMP:20260422T094724
CREATED:20241114T175039Z
LAST-MODIFIED:20241114T175039Z
UID:1332-1735171200-1735257599@hillcountry.org
SUMMARY:Day After Christmas
DESCRIPTION:Please be aware that Hill Country MHDD Center locations will be closed to observe the holiday. All locations will resume normal business hours the following day.
URL:https://hillcountry.org/event/day-after-christmas-2/
END:VEVENT
BEGIN:VEVENT
DTSTART;VALUE=DATE:20241225
DTEND;VALUE=DATE:20241226
DTSTAMP:20260422T094724
CREATED:20241114T174903Z
LAST-MODIFIED:20241220T171943Z
UID:1330-1735084800-1735171199@hillcountry.org
SUMMARY:Christmas Day
DESCRIPTION:Please be aware that Hill Country MHDD Center locations will be closed to observe the holiday. All locations will resume normal business hours the following day.
URL:https://hillcountry.org/event/christmas-day-2/
END:VEVENT
BEGIN:VEVENT
DTSTART;VALUE=DATE:20241129
DTEND;VALUE=DATE:20241130
DTSTAMP:20260422T094724
CREATED:20241114T174654Z
LAST-MODIFIED:20241114T174654Z
UID:1328-1732838400-1732924799@hillcountry.org
SUMMARY:Day after Thanksgiving
DESCRIPTION:Please be aware that Hill Country MHDD Center locations will be closed to observe the holiday. All locations will resume normal business hours the following day.
URL:https://hillcountry.org/event/day-after-thanksgiving-3/
END:VEVENT
BEGIN:VEVENT
DTSTART;VALUE=DATE:20241128
DTEND;VALUE=DATE:20241129
DTSTAMP:20260422T094724
CREATED:20241114T174615Z
LAST-MODIFIED:20241114T174615Z
UID:1326-1732752000-1732838399@hillcountry.org
SUMMARY:Thanksgiving Day
DESCRIPTION:Please be aware that Hill Country MHDD Center locations will be closed to observe the holiday. All locations will resume normal business hours the following day.
URL:https://hillcountry.org/event/thanksgiving-day-3/
END:VEVENT
BEGIN:VEVENT
DTSTART;TZID=America/Chicago:20240219T080000
DTEND;TZID=America/Chicago:20240219T200000
DTSTAMP:20260422T094724
CREATED:20240112T191046Z
LAST-MODIFIED:20240112T191222Z
UID:1135-1708329600-1708372800@hillcountry.org
SUMMARY:President's Day
DESCRIPTION:Please be aware that Hill Country MHDD Center locations will be closed to observe the holiday. All locations will resume normal business hours the following day.
URL:https://hillcountry.org/event/presidents-day-2/
END:VEVENT
BEGIN:VEVENT
DTSTART;TZID=America/Chicago:20231226T080000
DTEND;TZID=America/Chicago:20231226T170000
DTSTAMP:20260422T094724
CREATED:20231012T193457Z
LAST-MODIFIED:20231012T193457Z
UID:1097-1703577600-1703610000@hillcountry.org
SUMMARY:Day After Christmas
DESCRIPTION:Please be aware that Hill Country MHDD Center locations will be closed to observe the holiday. All locations will resume normal business hours the following day.
URL:https://hillcountry.org/event/day-after-christmas/
END:VEVENT
BEGIN:VEVENT
DTSTART;TZID=America/Chicago:20231225T080000
DTEND;TZID=America/Chicago:20231225T170000
DTSTAMP:20260422T094724
CREATED:20231012T193317Z
LAST-MODIFIED:20231012T193317Z
UID:1095-1703491200-1703523600@hillcountry.org
SUMMARY:Christmas Day
DESCRIPTION:Please be aware that Hill Country MHDD Center locations will be closed to observe the holiday. All locations will resume normal business hours the following day.
URL:https://hillcountry.org/event/christmas-day/
END:VEVENT
BEGIN:VEVENT
DTSTART;TZID=America/Chicago:20231124T080000
DTEND;TZID=America/Chicago:20231124T170000
DTSTAMP:20260422T094724
CREATED:20231012T193249Z
LAST-MODIFIED:20231012T193249Z
UID:1093-1700812800-1700845200@hillcountry.org
SUMMARY:Day After Thanksgiving
DESCRIPTION:Please be aware that Hill Country MHDD Center locations will be closed to observe the holiday. All locations will resume normal business hours the following day.
URL:https://hillcountry.org/event/day-after-thanksgiving-2/
END:VEVENT
BEGIN:VEVENT
DTSTART;TZID=America/Chicago:20231123T080000
DTEND;TZID=America/Chicago:20231123T170000
DTSTAMP:20260422T094724
CREATED:20231012T193228Z
LAST-MODIFIED:20231012T193228Z
UID:1091-1700726400-1700758800@hillcountry.org
SUMMARY:Thanksgiving Day
DESCRIPTION:Please be aware that Hill Country MHDD Center locations will be closed to observe the holiday. All locations will resume normal business hours the following day.
URL:https://hillcountry.org/event/thanksgiving-day-2/
END:VEVENT
BEGIN:VEVENT
DTSTART;TZID=America/Chicago:20231110T080000
DTEND;TZID=America/Chicago:20231110T170000
DTSTAMP:20260422T094724
CREATED:20231012T192048Z
LAST-MODIFIED:20231012T192048Z
UID:1089-1699603200-1699635600@hillcountry.org
SUMMARY:Veteran's Day
DESCRIPTION:Please be aware that Hill Country MHDD Center locations will be closed to observe the holiday. All locations will resume normal business hours the following day.
URL:https://hillcountry.org/event/veterans-day-2/
END:VEVENT
BEGIN:VEVENT
DTSTART;TZID=America/Chicago:20230704T080000
DTEND;TZID=America/Chicago:20230704T170000
DTSTAMP:20260422T094724
CREATED:20230324T142032Z
LAST-MODIFIED:20230324T142032Z
UID:998-1688457600-1688490000@hillcountry.org
SUMMARY:Independence Day
DESCRIPTION:Please be aware that Hill Country MHDD Center locations will be closed to observe the holiday. All locations will resume normal business hours the following day.
URL:https://hillcountry.org/event/independence-day-2/
END:VEVENT
BEGIN:VEVENT
DTSTART;TZID=UTC:20220716T100000
DTEND;TZID=UTC:20220716T160000
DTSTAMP:20260422T094724
CREATED:20220706T232710Z
LAST-MODIFIED:20220706T233413Z
UID:931-1657965600-1657987200@hillcountry.org
SUMMARY:Uvalde Together Day
DESCRIPTION:Saturday\, July 16th we will be assisting with the “Uvalde Together Day” at the Uvalde Fairplex from 10 am-4 pm. We are looking for volunteers to help us out that day!  \nWe need volunteers to help with games\, face painting\, and passing out snow cones\, and ice cream!  \nIf you are interested in volunteering\, please sign up at the link! (The more the merrier)\nhttps://www.signupgenius.com/go/10C0E4BACAD2DA7FDCE9-uvalde \nAlso\, if you know of any businesses who would be interested in donating their goods or services for this event\, please let us know!  \nHave a great day!
URL:https://hillcountry.org/event/uvalde-together-day/
LOCATION:Uvalde Fairplex\, 215 Veterans Lane\, Uvalde\, TX\, 78801\, United States
ORGANIZER;CN="Kelsi Bigott":MAILTO:kelsi8310@hillcountry.org
END:VEVENT
BEGIN:VEVENT
DTSTART;TZID=UTC:20220704T080000
DTEND;TZID=UTC:20220704T170000
DTSTAMP:20260422T094724
CREATED:20210802T235021Z
LAST-MODIFIED:20210802T235021Z
UID:786-1656921600-1656954000@hillcountry.org
SUMMARY:Independence Day
DESCRIPTION:Please be aware that Hill Country MHDD Center locations will be closed to observe the holiday. All locations will resume normal business hours the following day.
URL:https://hillcountry.org/event/independence-day/
END:VEVENT
BEGIN:VEVENT
DTSTART;TZID=UTC:20220530T080000
DTEND;TZID=UTC:20220530T170000
DTSTAMP:20260422T094724
CREATED:20210802T234949Z
LAST-MODIFIED:20210802T234949Z
UID:784-1653897600-1653930000@hillcountry.org
SUMMARY:Memorial Day
DESCRIPTION:Please be aware that Hill Country MHDD Center locations will be closed to observe the holiday. All locations will resume normal business hours the following day.
URL:https://hillcountry.org/event/memorial-day-3/
END:VEVENT
BEGIN:VEVENT
DTSTART;TZID=UTC:20220221T080000
DTEND;TZID=UTC:20220221T170000
DTSTAMP:20260422T094724
CREATED:20210802T234919Z
LAST-MODIFIED:20210802T234919Z
UID:782-1645430400-1645462800@hillcountry.org
SUMMARY:Washington’s Birthday
DESCRIPTION:Please be aware that Hill Country MHDD Center locations will be closed to observe the holiday. All locations will resume normal business hours the following day.
URL:https://hillcountry.org/event/washingtons-birthday/
END:VEVENT
BEGIN:VEVENT
DTSTART;VALUE=DATE:20220204
DTEND;VALUE=DATE:20220205
DTSTAMP:20260422T094724
CREATED:20220203T050528Z
LAST-MODIFIED:20220204T051840Z
UID:860-1643932800-1644019199@hillcountry.org
SUMMARY:INCLEMENT WEATHER CLOSURES
DESCRIPTION:With a Winter Storm Warning continuing for much of our service area\, school districts\nand business closures are currently being announced.  As our outpatient programs\, clinics\, and offices follow the local school district’s decision on closure or delayed openings; several of our locations will be closed again tomorrow.\nAs of this moment we know of the following:\nOur non-residential locations in Kerr County\, Gillespie County\, Kimble County\, Hays County\, Comal\, Kendall County\, Medina County\, and Llano County will be closed Friday the 4th.\nOur CSU\, residential programs\, crisis services\, and other essential operation will remain operational. We will continue to monitor weather conditions\, related closures\, and post updates as they become available.
URL:https://hillcountry.org/event/weather-closures/
END:VEVENT
BEGIN:VEVENT
DTSTART;TZID=UTC:20220117T080000
DTEND;TZID=UTC:20220117T170000
DTSTAMP:20260422T094724
CREATED:20210802T234845Z
LAST-MODIFIED:20210802T234845Z
UID:780-1642406400-1642438800@hillcountry.org
SUMMARY:Martin Luther King Jr. Day
DESCRIPTION:Please be aware that Hill Country MHDD Center locations will be closed to observe the holiday. All locations will resume normal business hours the following day.
URL:https://hillcountry.org/event/martin-luther-king-jr-day/
END:VEVENT
BEGIN:VEVENT
DTSTART;TZID=UTC:20211231T080000
DTEND;TZID=UTC:20211231T170000
DTSTAMP:20260422T094724
CREATED:20210802T234735Z
LAST-MODIFIED:20210802T234735Z
UID:778-1640937600-1640970000@hillcountry.org
SUMMARY:New Year’s Eve
DESCRIPTION:Please be aware that Hill Country MHDD Center locations will be closed to observe the holiday. All locations will resume normal business hours the following day.
URL:https://hillcountry.org/event/new-years-eve/
END:VEVENT
BEGIN:VEVENT
DTSTART;TZID=UTC:20211227T080000
DTEND;TZID=UTC:20211227T170000
DTSTAMP:20260422T094724
CREATED:20210802T234611Z
LAST-MODIFIED:20210802T234611Z
UID:776-1640592000-1640624400@hillcountry.org
SUMMARY:Monday After Christmas
DESCRIPTION:Please be aware that Hill Country MHDD Center locations will be closed to observe the holiday. All locations will resume normal business hours the following day.
URL:https://hillcountry.org/event/monday-after-christmas/
END:VEVENT
BEGIN:VEVENT
DTSTART;TZID=UTC:20211224T080000
DTEND;TZID=UTC:20211224T170000
DTSTAMP:20260422T094724
CREATED:20210802T234527Z
LAST-MODIFIED:20210802T234527Z
UID:774-1640332800-1640365200@hillcountry.org
SUMMARY:Christmas Eve
DESCRIPTION:Please be aware that Hill Country MHDD Center locations will be closed to observe the holiday. All locations will resume normal business hours the following day.
URL:https://hillcountry.org/event/christmas-eve/
END:VEVENT
BEGIN:VEVENT
DTSTART;TZID=UTC:20211126T080000
DTEND;TZID=UTC:20211126T170000
DTSTAMP:20260422T094724
CREATED:20210802T234500Z
LAST-MODIFIED:20210802T234500Z
UID:772-1637913600-1637946000@hillcountry.org
SUMMARY:Day After Thanksgiving
DESCRIPTION:Please be aware that Hill Country MHDD Center locations will be closed to observe the holiday. All locations will resume normal business hours the following day.
URL:https://hillcountry.org/event/day-after-thanksgiving/
END:VEVENT
BEGIN:VEVENT
DTSTART;TZID=UTC:20211125T080000
DTEND;TZID=UTC:20211125T170000
DTSTAMP:20260422T094724
CREATED:20210802T234422Z
LAST-MODIFIED:20210802T234422Z
UID:770-1637827200-1637859600@hillcountry.org
SUMMARY:Thanksgiving Day
DESCRIPTION:Please be aware that Hill Country MHDD Center locations will be closed to observe the holiday. All locations will resume normal business hours the following day.
URL:https://hillcountry.org/event/thanksgiving-day/
END:VEVENT
BEGIN:VEVENT
DTSTART;TZID=UTC:20211111T080000
DTEND;TZID=UTC:20211111T170000
DTSTAMP:20260422T094724
CREATED:20210802T234213Z
LAST-MODIFIED:20210802T234250Z
UID:766-1636617600-1636650000@hillcountry.org
SUMMARY:Veterans' Day
DESCRIPTION:Please be aware that Hill Country MHDD Center locations will be closed to observe the holiday. All locations will resume normal business hours the following day.
URL:https://hillcountry.org/event/veterans-day/
END:VEVENT
BEGIN:VEVENT
DTSTART;TZID=UTC:20211105T100000
DTEND;TZID=UTC:20211105T123000
DTSTAMP:20260422T094724
CREATED:20211101T195035Z
LAST-MODIFIED:20211101T195106Z
UID:813-1636106400-1636115400@hillcountry.org
SUMMARY:Virtual Live Hire Event
DESCRIPTION:Virtual interviews help employers connect with job seekers when they are not in the same physical location. Since hiring is a human process\, employers would like to talk with you online (chat\, video or phone) to see if you meet the requirements for the job.
URL:https://hillcountry.org/event/virtual-live-hire-event/
END:VEVENT
BEGIN:VEVENT
DTSTART;TZID=UTC:20210906T080000
DTEND;TZID=UTC:20210906T170000
DTSTAMP:20260422T094724
CREATED:20210802T234104Z
LAST-MODIFIED:20210802T234346Z
UID:764-1630915200-1630947600@hillcountry.org
SUMMARY:Labor Day
DESCRIPTION:Please be aware that Hill Country MHDD Center locations will be closed to observe the holiday. All locations will resume normal business hours the following day.
URL:https://hillcountry.org/event/labor-day/
END:VEVENT
BEGIN:VEVENT
DTSTART;VALUE=DATE:20210531
DTEND;VALUE=DATE:20210601
DTSTAMP:20260422T094724
CREATED:20210426T234410Z
LAST-MODIFIED:20210426T234410Z
UID:705-1622419200-1622505599@hillcountry.org
SUMMARY:Memorial Day
DESCRIPTION:HCMHDDC will be closed for the holiday but will resume all services the following business day.
URL:https://hillcountry.org/event/memorial-day-2/
END:VEVENT
END:VCALENDAR