BEGIN:VCALENDAR
VERSION:2.0
PRODID:-//Hill Country MHDD Centers - ECPv6.15.20//NONSGML v1.0//EN
CALSCALE:GREGORIAN
METHOD:PUBLISH
X-WR-CALNAME:Hill Country MHDD Centers
X-ORIGINAL-URL:https://hillcountry.org
X-WR-CALDESC:Events for Hill Country MHDD Centers
REFRESH-INTERVAL;VALUE=DURATION:PT1H
X-Robots-Tag:noindex
X-PUBLISHED-TTL:PT1H
BEGIN:VTIMEZONE
TZID:UTC
BEGIN:STANDARD
TZOFFSETFROM:+0000
TZOFFSETTO:+0000
TZNAME:UTC
DTSTART:20180101T000000
END:STANDARD
END:VTIMEZONE
BEGIN:VEVENT
DTSTART;TZID=UTC:20190902T080000
DTEND;TZID=UTC:20190902T170000
DTSTAMP:20260422T152959
CREATED:20190611T025350Z
LAST-MODIFIED:20190805T213543Z
UID:191-1567411200-1567443600@hillcountry.org
SUMMARY:Labor Day
DESCRIPTION:Please be aware HCMHDDC will be closed for the observance of Labor Day. Normal hours will resume the next business day. Thank you
URL:https://hillcountry.org/event/lorem-ipsum-dolor/
END:VEVENT
END:VCALENDAR