BEGIN:VCALENDAR
VERSION:2.0
PRODID:-//Hill Country MHDD Centers - ECPv6.15.20//NONSGML v1.0//EN
CALSCALE:GREGORIAN
METHOD:PUBLISH
X-ORIGINAL-URL:https://hillcountry.org
X-WR-CALDESC:Events for Hill Country MHDD Centers
REFRESH-INTERVAL;VALUE=DURATION:PT1H
X-Robots-Tag:noindex
X-PUBLISHED-TTL:PT1H
BEGIN:VTIMEZONE
TZID:UTC
BEGIN:STANDARD
TZOFFSETFROM:+0000
TZOFFSETTO:+0000
TZNAME:UTC
DTSTART:20210101T000000
END:STANDARD
END:VTIMEZONE
BEGIN:VEVENT
DTSTART;TZID=UTC:20220716T100000
DTEND;TZID=UTC:20220716T160000
DTSTAMP:20260422T153830
CREATED:20220706T232710Z
LAST-MODIFIED:20220706T233413Z
UID:931-1657965600-1657987200@hillcountry.org
SUMMARY:Uvalde Together Day
DESCRIPTION:Saturday\, July 16th we will be assisting with the “Uvalde Together Day” at the Uvalde Fairplex from 10 am-4 pm. We are looking for volunteers to help us out that day!  \nWe need volunteers to help with games\, face painting\, and passing out snow cones\, and ice cream!  \nIf you are interested in volunteering\, please sign up at the link! (The more the merrier)\nhttps://www.signupgenius.com/go/10C0E4BACAD2DA7FDCE9-uvalde \nAlso\, if you know of any businesses who would be interested in donating their goods or services for this event\, please let us know!  \nHave a great day!
URL:https://hillcountry.org/event/uvalde-together-day/
LOCATION:Uvalde Fairplex\, 215 Veterans Lane\, Uvalde\, TX\, 78801\, United States
ORGANIZER;CN="Kelsi Bigott":MAILTO:kelsi8310@hillcountry.org
END:VEVENT
END:VCALENDAR